BEGIN:VCALENDAR
VERSION:2.0
PRODID:-//Fly Delta Virtual//Events//EN
CALSCALE:GREGORIAN
METHOD:PUBLISH
BEGIN:VEVENT
UID:event-783@flydeltavirtual.com
DTSTAMP:20260425T111740Z
DTSTART:20260308T140000Z
DTEND:20260308T180000Z
SUMMARY:Sunday Morning Storm Chasers!
DESCRIPTION:Storm Chasers Sunday morning flight. Try your luck with Double Hours and CAT-FREE flying....if you can make it!\n\nhttps://flydeltavirtual.com/about/events/view/2026-03-08-sunday-morning-storm-chasers
URL:https://flydeltavirtual.com/about/events/view/2026-03-08-sunday-morning-storm-chasers
END:VEVENT
END:VCALENDAR
