BEGIN:VCALENDAR
VERSION:2.0
PRODID:-//Fly Delta Virtual//Events//EN
CALSCALE:GREGORIAN
METHOD:PUBLISH
BEGIN:VEVENT
UID:event-780@flydeltavirtual.com
DTSTAMP:20260420T154411Z
DTSTART:20260422T000000Z
DTEND:20260422T020000Z
SUMMARY:Tuesday Night Group Flight
DESCRIPTION:This California coastal route offers fantastic scenery for most of the flight. After departing LAX\, follow the Pacific shoreline northbound with the ocean stretching endlessly to the west. The arrival into Monterey drops you right along Monterey Bay with the coastal hills wrapping around the airport\n\nhttps://flydeltavirtual.com/about/events/view/2026-04-22-tuesday-night
URL:https://flydeltavirtual.com/about/events/view/2026-04-22-tuesday-night
END:VEVENT
END:VCALENDAR
