BEGIN:VCALENDAR
VERSION:2.0
PRODID:-//Fly Delta Virtual//Events//EN
CALSCALE:GREGORIAN
METHOD:PUBLISH
BEGIN:VEVENT
UID:event-776@flydeltavirtual.com
DTSTAMP:20260420T173318Z
DTSTART:20260314T000000Z
DTEND:20260314T030000Z
SUMMARY:VATUSA - Northern Crossings IX
DESCRIPTION:The premiere annual VATUSA trifecta-crossfire event returns for iteration number nine. Come fly across the Great Lakes region with full staffing\, lots of traffic\, and oh those northern lights!\n\nJoin us as we fly from KATL to KMSP!\n\nhttps://flydeltavirtual.com/about/events/view/2026-03-14-vatusa-northern-crossings-ix
URL:https://flydeltavirtual.com/about/events/view/2026-03-14-vatusa-northern-crossings-ix
END:VEVENT
END:VCALENDAR
