BEGIN:VCALENDAR
VERSION:2.0
PRODID:-//Fly Delta Virtual//Events//EN
CALSCALE:GREGORIAN
METHOD:PUBLISH
BEGIN:VEVENT
UID:event-510@flydeltavirtual.com
DTSTAMP:20260420T090847Z
DTSTART:20250129T010000Z
DTEND:20250129T030000Z
SUMMARY:Tuesday Night Group Flight
DESCRIPTION:KAZO to KATL\n\nhttps://flydeltavirtual.com/about/events/view/2025-01-29-tuesday-night
URL:https://flydeltavirtual.com/about/events/view/2025-01-29-tuesday-night
END:VEVENT
END:VCALENDAR
