BEGIN:VCALENDAR
VERSION:2.0
PRODID:-//Fly Delta Virtual//Events//EN
CALSCALE:GREGORIAN
METHOD:PUBLISH
BEGIN:VEVENT
UID:event-367@flydeltavirtual.com
DTSTAMP:20260421T081402Z
DTSTART:20240612T000000Z
DTEND:20240612T020000Z
SUMMARY:Tuesday Wheels Up Flight
DESCRIPTION:<p>KBIL to KLAS</p>\n\nhttps://flydeltavirtual.com/about/events/view/2024-06-12-tuesday-wheels-up
URL:https://flydeltavirtual.com/about/events/view/2024-06-12-tuesday-wheels-up
END:VEVENT
END:VCALENDAR
