BEGIN:VCALENDAR
VERSION:2.0
PRODID:-//Fly Delta Virtual//Events//EN
CALSCALE:GREGORIAN
METHOD:PUBLISH
BEGIN:VEVENT
UID:event-237@flydeltavirtual.com
DTSTAMP:20260421T081243Z
DTSTART:20240107T020000Z
DTEND:20240107T040000Z
SUMMARY:The Blackout Tour
DESCRIPTION:<p>Group Flight</p>\n\nhttps://flydeltavirtual.com/about/events/view/2024-01-07-blackout-tour
URL:https://flydeltavirtual.com/about/events/view/2024-01-07-blackout-tour
END:VEVENT
END:VCALENDAR
